BEGIN:VCALENDAR
VERSION:2.0
PRODID:-//First Baptist Church of Ferguson - ECPv6.15.20//NONSGML v1.0//EN
CALSCALE:GREGORIAN
METHOD:PUBLISH
X-WR-CALNAME:First Baptist Church of Ferguson
X-ORIGINAL-URL:https://fbcferguson.org
X-WR-CALDESC:Events for First Baptist Church of Ferguson
REFRESH-INTERVAL;VALUE=DURATION:PT1H
X-Robots-Tag:noindex
X-PUBLISHED-TTL:PT1H
BEGIN:VTIMEZONE
TZID:America/Chicago
BEGIN:DAYLIGHT
TZOFFSETFROM:-0600
TZOFFSETTO:-0500
TZNAME:CDT
DTSTART:20240310T080000
END:DAYLIGHT
BEGIN:STANDARD
TZOFFSETFROM:-0500
TZOFFSETTO:-0600
TZNAME:CST
DTSTART:20241103T070000
END:STANDARD
BEGIN:DAYLIGHT
TZOFFSETFROM:-0600
TZOFFSETTO:-0500
TZNAME:CDT
DTSTART:20250309T080000
END:DAYLIGHT
BEGIN:STANDARD
TZOFFSETFROM:-0500
TZOFFSETTO:-0600
TZNAME:CST
DTSTART:20251102T070000
END:STANDARD
BEGIN:DAYLIGHT
TZOFFSETFROM:-0600
TZOFFSETTO:-0500
TZNAME:CDT
DTSTART:20260308T080000
END:DAYLIGHT
BEGIN:STANDARD
TZOFFSETFROM:-0500
TZOFFSETTO:-0600
TZNAME:CST
DTSTART:20261101T070000
END:STANDARD
END:VTIMEZONE
BEGIN:VEVENT
DTSTART;TZID=America/Chicago:20250304T093000
DTEND;TZID=America/Chicago:20250304T230000
DTSTAMP:20260419T081638
CREATED:20241001T152945Z
LAST-MODIFIED:20241203T173010Z
UID:10001008-1741080600-1741129200@fbcferguson.org
SUMMARY:Precept Bible study class
DESCRIPTION:Precept Bible study meets every Tuesday at 9:30am in Grubb Hub (enter door 10 at the back of the church). Elaine Steinborn leads the class in the study of 1 Corinthians. Anyone who is interested in attending should contact Elaine or the office (office@fbcferguson.org or 314-321-1515). If you are unable to join the class in person\, it will be streamed live on the FBCF YouTube page.
URL:https://fbcferguson.org/event/precept-bible-study-class-3-2-2/2025-03-04/
LOCATION:FBCF Grubb Hub\, 333 N. Florissant Rd.\, Door 10\, Ferguson\, MO\, 63135\, United States
CATEGORIES:Community,Events
ATTACH;FMTTYPE=image/jpeg:https://fbcferguson.org/wp-content/uploads/Precept-image.jpg
END:VEVENT
BEGIN:VEVENT
DTSTART;TZID=America/Chicago:20250305T180000
DTEND;TZID=America/Chicago:20250305T193000
DTSTAMP:20260419T081638
CREATED:20240504T144618Z
LAST-MODIFIED:20250430T170105Z
UID:10000620-1741197600-1741203000@fbcferguson.org
SUMMARY:Youth
DESCRIPTION:Students in 6th-12th grade meet every Wednesday during the school year in the youth room on the south side of the FBCF building. Youth starts at 6pm and ends at 7:30pm and includes worship and Bible study and occasional pizza parties\, s’mores\, and fun outings!
URL:https://fbcferguson.org/event/youth/2025-03-05/
LOCATION:First Baptist Ferguson\, 333 N. Florissant Rd.\, Ferguson\, MO\, 63135
CATEGORIES:Events,Youth
ATTACH;FMTTYPE=image/jpeg:https://fbcferguson.org/wp-content/uploads/Youth2.jpg
END:VEVENT
BEGIN:VEVENT
DTSTART;TZID=America/Chicago:20250305T180000
DTEND;TZID=America/Chicago:20250305T193000
DTSTAMP:20260419T081638
CREATED:20241001T144049Z
LAST-MODIFIED:20250430T164848Z
UID:10000744-1741197600-1741203000@fbcferguson.org
SUMMARY:AWANA
DESCRIPTION:AWANA is a Bible club for kids ages 3 years old through fifth grade that meets every Wednesday from 6-7:30 pm. We play games\, sing songs\, do crafts\, and learn Bible stories and verses! Come to the north side of the church for entry. For more information\, please contact our Children’s Director\, Jen Reynolds (jen@fbcferguson.org).
URL:https://fbcferguson.org/event/awana-3/2025-03-05/
LOCATION:MO
CATEGORIES:Children,Community,Events
ATTACH;FMTTYPE=image/jpeg:https://fbcferguson.org/wp-content/uploads/awana-clubs-logo-color-e1727796361539.jpg
END:VEVENT
BEGIN:VEVENT
DTSTART;TZID=America/Chicago:20250308T080000
DTEND;TZID=America/Chicago:20250308T100000
DTSTAMP:20260419T081638
CREATED:20240221T160431Z
LAST-MODIFIED:20240221T163041Z
UID:10000493-1741420800-1741428000@fbcferguson.org
SUMMARY:North County Men's Breakfast
DESCRIPTION:Join the men of North County for a breakfast one Saturday per month at 8am. The location alternates between Calvary Bible Church in Florissant and First Baptist Church of Ferguson. Contact the FBC church office for more information at office@fbcferguson.org.
URL:https://fbcferguson.org/event/north-county-men-3/2025-03-08/
LOCATION:Calvary Bible Church\, 825 Graham Rd\, Florissant\, MO\, 63031\, United States
CATEGORIES:Events,Men
ATTACH;FMTTYPE=image/png:https://fbcferguson.org/wp-content/uploads/North-County-Mens-Breakfast-Calvary-web.png
END:VEVENT
BEGIN:VEVENT
DTSTART;TZID=America/Chicago:20250311T093000
DTEND;TZID=America/Chicago:20250311T230000
DTSTAMP:20260419T081638
CREATED:20241001T152945Z
LAST-MODIFIED:20241203T173010Z
UID:10001009-1741685400-1741734000@fbcferguson.org
SUMMARY:Precept Bible study class
DESCRIPTION:Precept Bible study meets every Tuesday at 9:30am in Grubb Hub (enter door 10 at the back of the church). Elaine Steinborn leads the class in the study of 1 Corinthians. Anyone who is interested in attending should contact Elaine or the office (office@fbcferguson.org or 314-321-1515). If you are unable to join the class in person\, it will be streamed live on the FBCF YouTube page.
URL:https://fbcferguson.org/event/precept-bible-study-class-3-2-2/2025-03-11/
LOCATION:FBCF Grubb Hub\, 333 N. Florissant Rd.\, Door 10\, Ferguson\, MO\, 63135\, United States
CATEGORIES:Community,Events
ATTACH;FMTTYPE=image/jpeg:https://fbcferguson.org/wp-content/uploads/Precept-image.jpg
END:VEVENT
BEGIN:VEVENT
DTSTART;TZID=America/Chicago:20250312T180000
DTEND;TZID=America/Chicago:20250312T193000
DTSTAMP:20260419T081638
CREATED:20240504T144618Z
LAST-MODIFIED:20250430T170105Z
UID:10000621-1741802400-1741807800@fbcferguson.org
SUMMARY:Youth
DESCRIPTION:Students in 6th-12th grade meet every Wednesday during the school year in the youth room on the south side of the FBCF building. Youth starts at 6pm and ends at 7:30pm and includes worship and Bible study and occasional pizza parties\, s’mores\, and fun outings!
URL:https://fbcferguson.org/event/youth/2025-03-12/
LOCATION:First Baptist Ferguson\, 333 N. Florissant Rd.\, Ferguson\, MO\, 63135
CATEGORIES:Events,Youth
ATTACH;FMTTYPE=image/jpeg:https://fbcferguson.org/wp-content/uploads/Youth2.jpg
END:VEVENT
BEGIN:VEVENT
DTSTART;TZID=America/Chicago:20250312T180000
DTEND;TZID=America/Chicago:20250312T193000
DTSTAMP:20260419T081638
CREATED:20241001T144049Z
LAST-MODIFIED:20250430T164848Z
UID:10000745-1741802400-1741807800@fbcferguson.org
SUMMARY:AWANA
DESCRIPTION:AWANA is a Bible club for kids ages 3 years old through fifth grade that meets every Wednesday from 6-7:30 pm. We play games\, sing songs\, do crafts\, and learn Bible stories and verses! Come to the north side of the church for entry. For more information\, please contact our Children’s Director\, Jen Reynolds (jen@fbcferguson.org).
URL:https://fbcferguson.org/event/awana-3/2025-03-12/
LOCATION:MO
CATEGORIES:Children,Community,Events
ATTACH;FMTTYPE=image/jpeg:https://fbcferguson.org/wp-content/uploads/awana-clubs-logo-color-e1727796361539.jpg
END:VEVENT
BEGIN:VEVENT
DTSTART;TZID=America/Chicago:20250313T090000
DTEND;TZID=America/Chicago:20250313T120000
DTSTAMP:20260419T081638
CREATED:20241001T154018Z
LAST-MODIFIED:20241001T154018Z
UID:10001017-1741856400-1741867200@fbcferguson.org
SUMMARY:Food Pantry Open
DESCRIPTION:Our food pantry is available to members of our community in need on the second and fourth Thursdays of the month. Please come to the back of the church (door 10) for entrance. Contact the church office for more information (314-521-1515 or office@fbcferguson.org).
URL:https://fbcferguson.org/event/food-pantry-open/2025-03-13/
LOCATION:First Baptist Ferguson\, 333 N. Florissant Rd.\, Ferguson\, MO\, 63135
CATEGORIES:Community,Events,Food
ATTACH;FMTTYPE=image/png:https://fbcferguson.org/wp-content/uploads/Food-pantry-image.png
END:VEVENT
BEGIN:VEVENT
DTSTART;TZID=America/Chicago:20250318T093000
DTEND;TZID=America/Chicago:20250318T230000
DTSTAMP:20260419T081638
CREATED:20241001T152945Z
LAST-MODIFIED:20241203T173010Z
UID:10001010-1742290200-1742338800@fbcferguson.org
SUMMARY:Precept Bible study class
DESCRIPTION:Precept Bible study meets every Tuesday at 9:30am in Grubb Hub (enter door 10 at the back of the church). Elaine Steinborn leads the class in the study of 1 Corinthians. Anyone who is interested in attending should contact Elaine or the office (office@fbcferguson.org or 314-321-1515). If you are unable to join the class in person\, it will be streamed live on the FBCF YouTube page.
URL:https://fbcferguson.org/event/precept-bible-study-class-3-2-2/2025-03-18/
LOCATION:FBCF Grubb Hub\, 333 N. Florissant Rd.\, Door 10\, Ferguson\, MO\, 63135\, United States
CATEGORIES:Community,Events
ATTACH;FMTTYPE=image/jpeg:https://fbcferguson.org/wp-content/uploads/Precept-image.jpg
END:VEVENT
BEGIN:VEVENT
DTSTART;TZID=America/Chicago:20250319T180000
DTEND;TZID=America/Chicago:20250319T193000
DTSTAMP:20260419T081638
CREATED:20240504T144618Z
LAST-MODIFIED:20250430T170105Z
UID:10000622-1742407200-1742412600@fbcferguson.org
SUMMARY:Youth
DESCRIPTION:Students in 6th-12th grade meet every Wednesday during the school year in the youth room on the south side of the FBCF building. Youth starts at 6pm and ends at 7:30pm and includes worship and Bible study and occasional pizza parties\, s’mores\, and fun outings!
URL:https://fbcferguson.org/event/youth/2025-03-19/
LOCATION:First Baptist Ferguson\, 333 N. Florissant Rd.\, Ferguson\, MO\, 63135
CATEGORIES:Events,Youth
ATTACH;FMTTYPE=image/jpeg:https://fbcferguson.org/wp-content/uploads/Youth2.jpg
END:VEVENT
BEGIN:VEVENT
DTSTART;TZID=America/Chicago:20250319T180000
DTEND;TZID=America/Chicago:20250319T193000
DTSTAMP:20260419T081638
CREATED:20241001T144049Z
LAST-MODIFIED:20250430T164848Z
UID:10000746-1742407200-1742412600@fbcferguson.org
SUMMARY:AWANA
DESCRIPTION:AWANA is a Bible club for kids ages 3 years old through fifth grade that meets every Wednesday from 6-7:30 pm. We play games\, sing songs\, do crafts\, and learn Bible stories and verses! Come to the north side of the church for entry. For more information\, please contact our Children’s Director\, Jen Reynolds (jen@fbcferguson.org).
URL:https://fbcferguson.org/event/awana-3/2025-03-19/
LOCATION:MO
CATEGORIES:Children,Community,Events
ATTACH;FMTTYPE=image/jpeg:https://fbcferguson.org/wp-content/uploads/awana-clubs-logo-color-e1727796361539.jpg
END:VEVENT
BEGIN:VEVENT
DTSTART;TZID=America/Chicago:20250325T093000
DTEND;TZID=America/Chicago:20250325T230000
DTSTAMP:20260419T081638
CREATED:20241001T152945Z
LAST-MODIFIED:20241203T173010Z
UID:10001011-1742895000-1742943600@fbcferguson.org
SUMMARY:Precept Bible study class
DESCRIPTION:Precept Bible study meets every Tuesday at 9:30am in Grubb Hub (enter door 10 at the back of the church). Elaine Steinborn leads the class in the study of 1 Corinthians. Anyone who is interested in attending should contact Elaine or the office (office@fbcferguson.org or 314-321-1515). If you are unable to join the class in person\, it will be streamed live on the FBCF YouTube page.
URL:https://fbcferguson.org/event/precept-bible-study-class-3-2-2/2025-03-25/
LOCATION:FBCF Grubb Hub\, 333 N. Florissant Rd.\, Door 10\, Ferguson\, MO\, 63135\, United States
CATEGORIES:Community,Events
ATTACH;FMTTYPE=image/jpeg:https://fbcferguson.org/wp-content/uploads/Precept-image.jpg
END:VEVENT
BEGIN:VEVENT
DTSTART;TZID=America/Chicago:20250326T180000
DTEND;TZID=America/Chicago:20250326T193000
DTSTAMP:20260419T081638
CREATED:20240504T144618Z
LAST-MODIFIED:20250430T170105Z
UID:10000623-1743012000-1743017400@fbcferguson.org
SUMMARY:Youth
DESCRIPTION:Students in 6th-12th grade meet every Wednesday during the school year in the youth room on the south side of the FBCF building. Youth starts at 6pm and ends at 7:30pm and includes worship and Bible study and occasional pizza parties\, s’mores\, and fun outings!
URL:https://fbcferguson.org/event/youth/2025-03-26/
LOCATION:First Baptist Ferguson\, 333 N. Florissant Rd.\, Ferguson\, MO\, 63135
CATEGORIES:Events,Youth
ATTACH;FMTTYPE=image/jpeg:https://fbcferguson.org/wp-content/uploads/Youth2.jpg
END:VEVENT
BEGIN:VEVENT
DTSTART;TZID=America/Chicago:20250326T180000
DTEND;TZID=America/Chicago:20250326T193000
DTSTAMP:20260419T081638
CREATED:20241001T144049Z
LAST-MODIFIED:20250430T164848Z
UID:10000747-1743012000-1743017400@fbcferguson.org
SUMMARY:AWANA
DESCRIPTION:AWANA is a Bible club for kids ages 3 years old through fifth grade that meets every Wednesday from 6-7:30 pm. We play games\, sing songs\, do crafts\, and learn Bible stories and verses! Come to the north side of the church for entry. For more information\, please contact our Children’s Director\, Jen Reynolds (jen@fbcferguson.org).
URL:https://fbcferguson.org/event/awana-3/2025-03-26/
LOCATION:MO
CATEGORIES:Children,Community,Events
ATTACH;FMTTYPE=image/jpeg:https://fbcferguson.org/wp-content/uploads/awana-clubs-logo-color-e1727796361539.jpg
END:VEVENT
BEGIN:VEVENT
DTSTART;TZID=America/Chicago:20250327T090000
DTEND;TZID=America/Chicago:20250327T120000
DTSTAMP:20260419T081638
CREATED:20241001T154055Z
LAST-MODIFIED:20251104T190054Z
UID:10001077-1743066000-1743076800@fbcferguson.org
SUMMARY:Food Pantry Open
DESCRIPTION:Our food pantry is available to members of our community in need on the second and fourth Thursdays of the month. Please come to the back of the church (door 10) for entrance. Contact the church office for more information (314-521-1515 or office@fbcferguson.org). In November and December\, the food pantry will be open the second and THIRD Thursdays of the month due to the holidays.
URL:https://fbcferguson.org/event/food-pantry-open-2/2025-03-27/
LOCATION:First Baptist Ferguson\, 333 N. Florissant Rd.\, Ferguson\, MO\, 63135
CATEGORIES:Community,Events,Food
ATTACH;FMTTYPE=image/png:https://fbcferguson.org/wp-content/uploads/Food-pantry-image.png
END:VEVENT
BEGIN:VEVENT
DTSTART;TZID=America/Chicago:20250401T093000
DTEND;TZID=America/Chicago:20250401T230000
DTSTAMP:20260419T081638
CREATED:20241001T152945Z
LAST-MODIFIED:20241203T173010Z
UID:10001132-1743499800-1743548400@fbcferguson.org
SUMMARY:Precept Bible study class
DESCRIPTION:Precept Bible study meets every Tuesday at 9:30am in Grubb Hub (enter door 10 at the back of the church). Elaine Steinborn leads the class in the study of 1 Corinthians. Anyone who is interested in attending should contact Elaine or the office (office@fbcferguson.org or 314-321-1515). If you are unable to join the class in person\, it will be streamed live on the FBCF YouTube page.
URL:https://fbcferguson.org/event/precept-bible-study-class-3-2-2/2025-04-01/
LOCATION:FBCF Grubb Hub\, 333 N. Florissant Rd.\, Door 10\, Ferguson\, MO\, 63135\, United States
CATEGORIES:Community,Events
ATTACH;FMTTYPE=image/jpeg:https://fbcferguson.org/wp-content/uploads/Precept-image.jpg
END:VEVENT
BEGIN:VEVENT
DTSTART;TZID=America/Chicago:20250402T180000
DTEND;TZID=America/Chicago:20250402T193000
DTSTAMP:20260419T081638
CREATED:20240504T144618Z
LAST-MODIFIED:20250430T170105Z
UID:10000624-1743616800-1743622200@fbcferguson.org
SUMMARY:Youth
DESCRIPTION:Students in 6th-12th grade meet every Wednesday during the school year in the youth room on the south side of the FBCF building. Youth starts at 6pm and ends at 7:30pm and includes worship and Bible study and occasional pizza parties\, s’mores\, and fun outings!
URL:https://fbcferguson.org/event/youth/2025-04-02/
LOCATION:First Baptist Ferguson\, 333 N. Florissant Rd.\, Ferguson\, MO\, 63135
CATEGORIES:Events,Youth
ATTACH;FMTTYPE=image/jpeg:https://fbcferguson.org/wp-content/uploads/Youth2.jpg
END:VEVENT
BEGIN:VEVENT
DTSTART;TZID=America/Chicago:20250402T180000
DTEND;TZID=America/Chicago:20250402T193000
DTSTAMP:20260419T081638
CREATED:20241001T144049Z
LAST-MODIFIED:20250430T164848Z
UID:10000748-1743616800-1743622200@fbcferguson.org
SUMMARY:AWANA
DESCRIPTION:AWANA is a Bible club for kids ages 3 years old through fifth grade that meets every Wednesday from 6-7:30 pm. We play games\, sing songs\, do crafts\, and learn Bible stories and verses! Come to the north side of the church for entry. For more information\, please contact our Children’s Director\, Jen Reynolds (jen@fbcferguson.org).
URL:https://fbcferguson.org/event/awana-3/2025-04-02/
LOCATION:MO
CATEGORIES:Children,Community,Events
ATTACH;FMTTYPE=image/jpeg:https://fbcferguson.org/wp-content/uploads/awana-clubs-logo-color-e1727796361539.jpg
END:VEVENT
BEGIN:VEVENT
DTSTART;TZID=America/Chicago:20250408T093000
DTEND;TZID=America/Chicago:20250408T230000
DTSTAMP:20260419T081638
CREATED:20241001T152945Z
LAST-MODIFIED:20241203T173010Z
UID:10001133-1744104600-1744153200@fbcferguson.org
SUMMARY:Precept Bible study class
DESCRIPTION:Precept Bible study meets every Tuesday at 9:30am in Grubb Hub (enter door 10 at the back of the church). Elaine Steinborn leads the class in the study of 1 Corinthians. Anyone who is interested in attending should contact Elaine or the office (office@fbcferguson.org or 314-321-1515). If you are unable to join the class in person\, it will be streamed live on the FBCF YouTube page.
URL:https://fbcferguson.org/event/precept-bible-study-class-3-2-2/2025-04-08/
LOCATION:FBCF Grubb Hub\, 333 N. Florissant Rd.\, Door 10\, Ferguson\, MO\, 63135\, United States
CATEGORIES:Community,Events
ATTACH;FMTTYPE=image/jpeg:https://fbcferguson.org/wp-content/uploads/Precept-image.jpg
END:VEVENT
BEGIN:VEVENT
DTSTART;TZID=America/Chicago:20250409T180000
DTEND;TZID=America/Chicago:20250409T193000
DTSTAMP:20260419T081638
CREATED:20240504T144618Z
LAST-MODIFIED:20250430T170105Z
UID:10000625-1744221600-1744227000@fbcferguson.org
SUMMARY:Youth
DESCRIPTION:Students in 6th-12th grade meet every Wednesday during the school year in the youth room on the south side of the FBCF building. Youth starts at 6pm and ends at 7:30pm and includes worship and Bible study and occasional pizza parties\, s’mores\, and fun outings!
URL:https://fbcferguson.org/event/youth/2025-04-09/
LOCATION:First Baptist Ferguson\, 333 N. Florissant Rd.\, Ferguson\, MO\, 63135
CATEGORIES:Events,Youth
ATTACH;FMTTYPE=image/jpeg:https://fbcferguson.org/wp-content/uploads/Youth2.jpg
END:VEVENT
BEGIN:VEVENT
DTSTART;TZID=America/Chicago:20250409T180000
DTEND;TZID=America/Chicago:20250409T193000
DTSTAMP:20260419T081638
CREATED:20241001T144049Z
LAST-MODIFIED:20250430T164848Z
UID:10000749-1744221600-1744227000@fbcferguson.org
SUMMARY:AWANA
DESCRIPTION:AWANA is a Bible club for kids ages 3 years old through fifth grade that meets every Wednesday from 6-7:30 pm. We play games\, sing songs\, do crafts\, and learn Bible stories and verses! Come to the north side of the church for entry. For more information\, please contact our Children’s Director\, Jen Reynolds (jen@fbcferguson.org).
URL:https://fbcferguson.org/event/awana-3/2025-04-09/
LOCATION:MO
CATEGORIES:Children,Community,Events
ATTACH;FMTTYPE=image/jpeg:https://fbcferguson.org/wp-content/uploads/awana-clubs-logo-color-e1727796361539.jpg
END:VEVENT
BEGIN:VEVENT
DTSTART;TZID=America/Chicago:20250410T090000
DTEND;TZID=America/Chicago:20250410T120000
DTSTAMP:20260419T081638
CREATED:20241001T154018Z
LAST-MODIFIED:20241001T154018Z
UID:10001018-1744275600-1744286400@fbcferguson.org
SUMMARY:Food Pantry Open
DESCRIPTION:Our food pantry is available to members of our community in need on the second and fourth Thursdays of the month. Please come to the back of the church (door 10) for entrance. Contact the church office for more information (314-521-1515 or office@fbcferguson.org).
URL:https://fbcferguson.org/event/food-pantry-open/2025-04-10/
LOCATION:First Baptist Ferguson\, 333 N. Florissant Rd.\, Ferguson\, MO\, 63135
CATEGORIES:Community,Events,Food
ATTACH;FMTTYPE=image/png:https://fbcferguson.org/wp-content/uploads/Food-pantry-image.png
END:VEVENT
BEGIN:VEVENT
DTSTART;TZID=America/Chicago:20250411T100000
DTEND;TZID=America/Chicago:20250411T110000
DTSTAMP:20260419T081638
CREATED:20250408T170156Z
LAST-MODIFIED:20250408T170156Z
UID:10001185-1744365600-1744369200@fbcferguson.org
SUMMARY:Bach Society Education Concert
DESCRIPTION:Get a behind-the-scenes look at what goes into pursuing a career in music during The Bach Society of Saint Louis’ FREE Education Concert. Enjoy an exciting lineup of musical theatre and classical favorites performed by the talented 2024-2025 Bach Society Young Artist award recipients. During the concert\, you’ll hear directly from these singers about their unique journeys and the experiences that inspired them to follow their passion for music. Tickets are free; advanced registration is strongly recommended due to limited capacity.
URL:https://fbcferguson.org/event/bach-society-education-concert/
LOCATION:First Baptist Ferguson\, 333 N. Florissant Rd.\, Ferguson\, MO\, 63135
CATEGORIES:Children,Community,Events,Music,Outreach,Youth
ATTACH;FMTTYPE=image/jpeg:https://fbcferguson.org/wp-content/uploads/BSSL-FREE-Education-Concert-V3-scaled.jpg
END:VEVENT
BEGIN:VEVENT
DTSTART;TZID=America/Chicago:20250412T080000
DTEND;TZID=America/Chicago:20250412T100000
DTSTAMP:20260419T081638
CREATED:20240221T160612Z
LAST-MODIFIED:20240221T161026Z
UID:10000523-1744444800-1744452000@fbcferguson.org
SUMMARY:North County Men's Breakfast
DESCRIPTION:Join the men of North County for a breakfast one Saturday per month at 8am. The location alternates between Calvary Bible Church in Florissant and First Baptist Church of Ferguson. Contact the FBC church office for more information at office@fbcferguson.org.
URL:https://fbcferguson.org/event/north-county-men-2-3/2025-04-12/
LOCATION:FBCF Branson Hall\, 333 N. Florissant Rd.\, Ferguson\, MO\, 63135\, United States
CATEGORIES:Events,Men
ATTACH;FMTTYPE=image/png:https://fbcferguson.org/wp-content/uploads/North-County-Mens-Breakfast-FBC-web.png
END:VEVENT
BEGIN:VEVENT
DTSTART;TZID=America/Chicago:20250412T080000
DTEND;TZID=America/Chicago:20250412T100000
DTSTAMP:20260419T081638
CREATED:20250108T231226Z
LAST-MODIFIED:20250108T231318Z
UID:10000663-1744444800-1744452000@fbcferguson.org
SUMMARY:North County Men's Breakfast
DESCRIPTION:Join the men of North County for a breakfast one Saturday per month at 8am. The location alternates between Calvary Bible Church in Florissant and First Baptist Church of Ferguson. Contact the FBC church office for more information at office@fbcferguson.org.
URL:https://fbcferguson.org/event/north-county-men-2-3-2-2/2025-04-12/
LOCATION:FBCF Branson Hall\, 333 N. Florissant Rd.\, Ferguson\, MO\, 63135\, United States
CATEGORIES:Events,Men
ATTACH;FMTTYPE=image/png:https://fbcferguson.org/wp-content/uploads/NoCo-Mens-Breakfast-presentation-6.png
END:VEVENT
BEGIN:VEVENT
DTSTART;TZID=America/Chicago:20250420T090000
DTEND;TZID=America/Chicago:20250420T113000
DTSTAMP:20260419T081638
CREATED:20250408T171811Z
LAST-MODIFIED:20250408T171811Z
UID:10001186-1745139600-1745148600@fbcferguson.org
SUMMARY:Easter Services
DESCRIPTION:Join us on Sunday\, April 20\, for Easter! Enjoy a First Light service at 9 a.m.\, followed by breakfast at 9:30 a.m. and then an Easter worship service at 10:30 a.m. We look forward to celebrating our risen Lord and Savior with you!
URL:https://fbcferguson.org/event/easter-services/
LOCATION:First Baptist Ferguson\, 333 N. Florissant Rd.\, Ferguson\, MO\, 63135
CATEGORIES:Community,Events
ATTACH;FMTTYPE=image/png:https://fbcferguson.org/wp-content/uploads/Easter-banner-2025-Presentation.png
END:VEVENT
BEGIN:VEVENT
DTSTART;TZID=America/Chicago:20250423T180000
DTEND;TZID=America/Chicago:20250423T193000
DTSTAMP:20260419T081638
CREATED:20240504T144618Z
LAST-MODIFIED:20250430T170105Z
UID:10000627-1745431200-1745436600@fbcferguson.org
SUMMARY:Youth
DESCRIPTION:Students in 6th-12th grade meet every Wednesday during the school year in the youth room on the south side of the FBCF building. Youth starts at 6pm and ends at 7:30pm and includes worship and Bible study and occasional pizza parties\, s’mores\, and fun outings!
URL:https://fbcferguson.org/event/youth/2025-04-23/
LOCATION:First Baptist Ferguson\, 333 N. Florissant Rd.\, Ferguson\, MO\, 63135
CATEGORIES:Events,Youth
ATTACH;FMTTYPE=image/jpeg:https://fbcferguson.org/wp-content/uploads/Youth2.jpg
END:VEVENT
BEGIN:VEVENT
DTSTART;TZID=America/Chicago:20250423T180000
DTEND;TZID=America/Chicago:20250423T193000
DTSTAMP:20260419T081638
CREATED:20241001T144049Z
LAST-MODIFIED:20250430T164848Z
UID:10000751-1745431200-1745436600@fbcferguson.org
SUMMARY:AWANA
DESCRIPTION:AWANA is a Bible club for kids ages 3 years old through fifth grade that meets every Wednesday from 6-7:30 pm. We play games\, sing songs\, do crafts\, and learn Bible stories and verses! Come to the north side of the church for entry. For more information\, please contact our Children’s Director\, Jen Reynolds (jen@fbcferguson.org).
URL:https://fbcferguson.org/event/awana-3/2025-04-23/
LOCATION:MO
CATEGORIES:Children,Community,Events
ATTACH;FMTTYPE=image/jpeg:https://fbcferguson.org/wp-content/uploads/awana-clubs-logo-color-e1727796361539.jpg
END:VEVENT
BEGIN:VEVENT
DTSTART;TZID=America/Chicago:20250424T090000
DTEND;TZID=America/Chicago:20250424T120000
DTSTAMP:20260419T081638
CREATED:20241001T154055Z
LAST-MODIFIED:20251104T190054Z
UID:10001078-1745485200-1745496000@fbcferguson.org
SUMMARY:Food Pantry Open
DESCRIPTION:Our food pantry is available to members of our community in need on the second and fourth Thursdays of the month. Please come to the back of the church (door 10) for entrance. Contact the church office for more information (314-521-1515 or office@fbcferguson.org). In November and December\, the food pantry will be open the second and THIRD Thursdays of the month due to the holidays.
URL:https://fbcferguson.org/event/food-pantry-open-2/2025-04-24/
LOCATION:First Baptist Ferguson\, 333 N. Florissant Rd.\, Ferguson\, MO\, 63135
CATEGORIES:Community,Events,Food
ATTACH;FMTTYPE=image/png:https://fbcferguson.org/wp-content/uploads/Food-pantry-image.png
END:VEVENT
BEGIN:VEVENT
DTSTART;TZID=America/Chicago:20250430T180000
DTEND;TZID=America/Chicago:20250430T193000
DTSTAMP:20260419T081638
CREATED:20240504T144618Z
LAST-MODIFIED:20250430T170105Z
UID:10000628-1746036000-1746041400@fbcferguson.org
SUMMARY:Youth
DESCRIPTION:Students in 6th-12th grade meet every Wednesday during the school year in the youth room on the south side of the FBCF building. Youth starts at 6pm and ends at 7:30pm and includes worship and Bible study and occasional pizza parties\, s’mores\, and fun outings!
URL:https://fbcferguson.org/event/youth/2025-04-30/
LOCATION:First Baptist Ferguson\, 333 N. Florissant Rd.\, Ferguson\, MO\, 63135
CATEGORIES:Events,Youth
ATTACH;FMTTYPE=image/jpeg:https://fbcferguson.org/wp-content/uploads/Youth2.jpg
END:VEVENT
END:VCALENDAR